BEGIN:VCALENDAR
VERSION:2.0
PRODID:-// - ECPv6.15.20//NONSGML v1.0//EN
CALSCALE:GREGORIAN
METHOD:PUBLISH
X-ORIGINAL-URL:http://ozcs-smarje.eu
X-WR-CALDESC:Dogodki za 
REFRESH-INTERVAL;VALUE=DURATION:PT1H
X-Robots-Tag:noindex
X-PUBLISHED-TTL:PT1H
BEGIN:VTIMEZONE
TZID:UTC
BEGIN:STANDARD
TZOFFSETFROM:+0000
TZOFFSETTO:+0000
TZNAME:UTC
DTSTART:20160101T000000
END:STANDARD
END:VTIMEZONE
BEGIN:VEVENT
DTSTART;TZID=UTC:20231029T080000
DTEND;TZID=UTC:20231029T170000
DTSTAMP:20260420T025942
CREATED:20231029T181106Z
LAST-MODIFIED:20231029T181106Z
UID:2026-1698566400-1698598800@ozcs-smarje.eu
SUMMARY:Naši strelci osvojili četrto mesto
DESCRIPTION:V počastitev dneva suverenosti je policijsko veteransko društvo SEVER za celjsko območje\, odbor Rogaška Slatina – Rogatec  v soboto  21.10.2023 organiziralo regijsko strelsko tekmovanje  z MK pištolo na strelišču Loka pri Žusmu. Ekipa Območnega združenja slovenskih častnikov Šmarje pri Jelšah v sestavi Jure Kolar\, Robert Oblak in Jože Čuječ je osvojila četrto mesto. \nČestitamo.
URL:http://ozcs-smarje.eu/dogodek/nasi-strelci-osvojili-cetrto-mesto/
END:VEVENT
BEGIN:VEVENT
DTSTART;TZID=UTC:20230902T140000
DTEND;TZID=UTC:20230902T180000
DTSTAMP:20260420T025942
CREATED:20230824T082854Z
LAST-MODIFIED:20230824T082854Z
UID:1989-1693663200-1693677600@ozcs-smarje.eu
SUMMARY:LOKOSTRELSKI TURNIR BRECLJEVO
DESCRIPTION:
URL:http://ozcs-smarje.eu/dogodek/lokostrelski-turnir-brecljevo/
LOCATION:Brecljevo
END:VEVENT
BEGIN:VEVENT
DTSTART;TZID=UTC:20230614T163000
DTEND;TZID=UTC:20230614T190000
DTSTAMP:20260420T025942
CREATED:20230604T185506Z
LAST-MODIFIED:20230604T185506Z
UID:1962-1686760200-1686769200@ozcs-smarje.eu
SUMMARY:TEKMOVANJE V STRELJANJU Z MK PIŠTOLO
DESCRIPTION:
URL:http://ozcs-smarje.eu/dogodek/tekmovanje-v-streljanju-z-mk-pistolo/
LOCATION:Loka pri Žusmu
END:VEVENT
BEGIN:VEVENT
DTSTART;TZID=UTC:20230520T100000
DTEND;TZID=UTC:20230520T170000
DTSTAMP:20260420T025942
CREATED:20230506T164705Z
LAST-MODIFIED:20230506T164705Z
UID:1938-1684576800-1684602000@ozcs-smarje.eu
SUMMARY:DAN ODPRTIH VRAT VOJAŠNIC SLOVENSKE VOJSKE
DESCRIPTION:
URL:http://ozcs-smarje.eu/dogodek/dan-odprtih-vrat-vojasnic-slovenske-vojske/
END:VEVENT
BEGIN:VEVENT
DTSTART;TZID=UTC:20230520T080000
DTEND;TZID=UTC:20230520T170000
DTSTAMP:20260420T025942
CREATED:20230506T165039Z
LAST-MODIFIED:20230506T165039Z
UID:1941-1684569600-1684602000@ozcs-smarje.eu
SUMMARY:STROKOVNA EKSKURZIJA OZSČ ŠMARJE PRI JELŠAH
DESCRIPTION:
URL:http://ozcs-smarje.eu/dogodek/strokovna-ekskurzija-ozsc-smarje-pri-jelsah/
LOCATION:Maribor
END:VEVENT
BEGIN:VEVENT
DTSTART;TZID=UTC:20230415T090000
DTEND;TZID=UTC:20230415T140000
DTSTAMP:20260420T025942
CREATED:20230407T182554Z
LAST-MODIFIED:20230407T182709Z
UID:1900-1681549200-1681567200@ozcs-smarje.eu
SUMMARY:STRELJANJE Z MALOKALIBERSKO PIŠTOLO KOZJE 15. APRIL
DESCRIPTION:Spoštovani  člani Območnega združenja slovenskih častnikov Šmarje pri Jelšah! \n Skladno s Programom dela za leto 2023 Območnega združenja SČ Šmarje pri Jelšah\, Vas vljudno vabimo na Vojaško strokovno usposabljanje in tekmovanje v streljanju  s serijsko MK pištolo\, ki bo \nv soboto\, 15. aprila 2023\, s pričetkom ob 9.00 uri pri Gostišču RIBNIK v Kozjem \n Program: \n\n Ogled turističnih znamenitosti zaselka Zagorje.\nStreljanje s serijsko MK pištolo (strelišče pri lovskem domu Lovke družine Kozje).\nOgled »Centra za promocijo vin\, kulture in turizma – VIRŠTANJ«.\nDruženje ob prigrizku
URL:http://ozcs-smarje.eu/dogodek/streljanje-z-malokalibersko-pistolo-kozje-15-april/
END:VEVENT
BEGIN:VEVENT
DTSTART;TZID=UTC:20230310T180000
DTEND;TZID=UTC:20230310T193000
DTSTAMP:20260420T025942
CREATED:20230302T182509Z
LAST-MODIFIED:20230302T182509Z
UID:1873-1678471200-1678476600@ozcs-smarje.eu
SUMMARY:ZBOR ČLANOV OBMOĆNEGA ZDRUŽENJA SČ ŠMARJE PRI JELŠAH
DESCRIPTION:
URL:http://ozcs-smarje.eu/dogodek/zbor-clanov-obmocnega-zdruzenja-sc-smarje-pri-jelsah/
LOCATION:Kulturni dom Šmarje pri Jelšah
END:VEVENT
BEGIN:VEVENT
DTSTART;TZID=UTC:20221202T180000
DTEND;TZID=UTC:20221202T200000
DTSTAMP:20260420T025942
CREATED:20221125T162423Z
LAST-MODIFIED:20221125T162423Z
UID:1796-1670004000-1670011200@ozcs-smarje.eu
SUMMARY:Vojaško strokovno srečanje v Rogatcu
DESCRIPTION:
URL:http://ozcs-smarje.eu/dogodek/vojasko-strokovno-srecanje-v-rogatcu/
LOCATION:Rogatec
END:VEVENT
BEGIN:VEVENT
DTSTART;TZID=UTC:20220604T070000
DTEND;TZID=UTC:20220604T170000
DTSTAMP:20260420T025942
CREATED:20220520T062353Z
LAST-MODIFIED:20220520T062353Z
UID:1658-1654326000-1654362000@ozcs-smarje.eu
SUMMARY:STROKOVNA EKSKURZIJA V TEHNIČNI MUZEJ BISTRA 4. JUNIJ2022
DESCRIPTION:Spoštovani člani Območnega združenja Zveze slovenskih častnikov Šmarje pri Jelšah\, za 4. junij je načrtovana strokovna ekskurzija v Tehnični muzej Bistra. Vabilo sledi. \npovezava https://www.tms.si/
URL:http://ozcs-smarje.eu/dogodek/strokovna-ekskurzija-v-tehnicni-muzej-bistra-4-junij2022/
END:VEVENT
BEGIN:VEVENT
DTSTART;VALUE=DATE:20190615
DTEND;VALUE=DATE:20190616
DTSTAMP:20260420T025942
CREATED:20190308T163731Z
LAST-MODIFIED:20190320T190113Z
UID:1135-1560556800-1560643199@ozcs-smarje.eu
SUMMARY:STROKOVNA EKSKURZIJA V PARK VOJAŠKE ZGODOVINE PIVKA
DESCRIPTION:
URL:http://ozcs-smarje.eu/dogodek/strokovna-ekskurzija-v-park-vojaske-zgodovine-pivka/
END:VEVENT
BEGIN:VEVENT
DTSTART;TZID=UTC:20190518T090000
DTEND;TZID=UTC:20190518T130000
DTSTAMP:20260420T025942
CREATED:20190510T154207Z
LAST-MODIFIED:20190510T154207Z
UID:1187-1558170000-1558184400@ozcs-smarje.eu
SUMMARY:STROKOVNO SREČANJE IN STRELJANJE Z MK PIŠTOLO
DESCRIPTION:Program: \n  \n\n\n\n09.00 do 09.15\nZbiranje članov pri Lovski koči LD Kozje (Pilštanj)\n\n\n09.15 do 11.00\nStreljanje z MK pištolo\n\n\n11.00 do 11.30 \n11.30 do 13.00\nOdhod v kraj Osredek \nPohod na Veliki vrh k spomeniku Tolarja (približno 15 min.) in ogled ter predstavitev kraja\n\n\n13.00\nRazglasitev rezultatov in družabno srečanje z kosilom v domu krajanov v Osredku\, pa še kaj mokrega se bo našlo. \n  \n 
URL:http://ozcs-smarje.eu/dogodek/strokovno-srecanje-in-streljanje-z-mk-pistolo/
END:VEVENT
BEGIN:VEVENT
DTSTART;TZID=UTC:20190323T090000
DTEND;TZID=UTC:20190323T140000
DTSTAMP:20260420T025942
CREATED:20190308T163541Z
LAST-MODIFIED:20190308T163541Z
UID:1132-1553331600-1553349600@ozcs-smarje.eu
SUMMARY:STRELJANJE S PIŠTOLO (9mm) - LOKA PRI ŽUSMU
DESCRIPTION:
URL:http://ozcs-smarje.eu/dogodek/streljanje-s-pistolo-9mm-loka-pri-zusmu/
LOCATION:Loka pri Žusmu
END:VEVENT
BEGIN:VEVENT
DTSTART;VALUE=DATE:20190317
DTEND;VALUE=DATE:20190318
DTSTAMP:20260420T025942
CREATED:20190308T163331Z
LAST-MODIFIED:20190308T163331Z
UID:1130-1552780800-1552867199@ozcs-smarje.eu
SUMMARY:JOŽEKI KUHAJO
DESCRIPTION:
URL:http://ozcs-smarje.eu/dogodek/jozeki-kuhajo/
LOCATION:Bistrica ob Sotli
END:VEVENT
BEGIN:VEVENT
DTSTART;VALUE=DATE:20190314
DTEND;VALUE=DATE:20190315
DTSTAMP:20260420T025942
CREATED:20190224T191611Z
LAST-MODIFIED:20190227T190243Z
UID:1116-1552521600-1552607999@ozcs-smarje.eu
SUMMARY:STRELSKO TEKMOVANJE S PAP M-59/66 (strelišče PEČOVNIK)
DESCRIPTION:
URL:http://ozcs-smarje.eu/dogodek/strelsko-tekmovanje-s-pap-m-59-66/
LOCATION:strelišče Pečovnik
END:VEVENT
BEGIN:VEVENT
DTSTART;TZID=UTC:20190306T180000
DTEND;TZID=UTC:20190306T193000
DTSTAMP:20260420T025942
CREATED:20190227T190653Z
LAST-MODIFIED:20190227T193205Z
UID:1119-1551895200-1551900600@ozcs-smarje.eu
SUMMARY:SEJA UPRAVNEGA ODBORA OZSČ ŠMARJE PRI JELŠAH
DESCRIPTION:VABILO na sejo UO 06. 03. 2019
URL:http://ozcs-smarje.eu/dogodek/seja-upravnega-odbora-ozsc-smarje-pri-jelsah/
LOCATION:sedež OZSČ Šmarje pri Jelšah
END:VEVENT
BEGIN:VEVENT
DTSTART;TZID=UTC:20190213T180000
DTEND;TZID=UTC:20190213T200000
DTSTAMP:20260420T025942
CREATED:20190121T191858Z
LAST-MODIFIED:20190121T191858Z
UID:1062-1550080800-1550088000@ozcs-smarje.eu
SUMMARY:ZBOR ČLANOV OZSČ ŠMARJE PRI JELŠAH
DESCRIPTION:
URL:http://ozcs-smarje.eu/dogodek/zbor-clanov-ozsc-smarje-pri-jelsah/
LOCATION:Kulturni dom Šmarje pri Jelšah
END:VEVENT
BEGIN:VEVENT
DTSTART;TZID=UTC:20181129T050000
DTEND;TZID=UTC:20181129T190000
DTSTAMP:20260420T025942
CREATED:20181122T173636Z
LAST-MODIFIED:20181122T173636Z
UID:1013-1543467600-1543518000@ozcs-smarje.eu
SUMMARY:SREČANJE ROGATEC
DESCRIPTION:Vabilo Rogatec 2018
URL:http://ozcs-smarje.eu/dogodek/srecanje-rogatec/
END:VEVENT
BEGIN:VEVENT
DTSTART;TZID=UTC:20181020T090000
DTEND;TZID=UTC:20181020T140000
DTSTAMP:20260420T025942
CREATED:20181003T180431Z
LAST-MODIFIED:20181003T180437Z
UID:958-1540026000-1540044000@ozcs-smarje.eu
SUMMARY:REGIJSKO TEKMOVANJE V STRELJANJU S ŠPORTNIM IN LOVSKIM OROŽJEM
DESCRIPTION:
URL:http://ozcs-smarje.eu/dogodek/regijsko-tekmovanje-v-streljanju-s-sportnim-in-lovskim-orozjem/
LOCATION:Bistrica ob Sotli
END:VEVENT
BEGIN:VEVENT
DTSTART;TZID=UTC:20180929T080000
DTEND;TZID=UTC:20180929T140000
DTSTAMP:20260420T025942
CREATED:20180914T141528Z
LAST-MODIFIED:20180914T141528Z
UID:915-1538208000-1538229600@ozcs-smarje.eu
SUMMARY:ORIENTACIJSKI POHOD\, ROGAŠKA SLATINA
DESCRIPTION:
URL:http://ozcs-smarje.eu/dogodek/orientacijski-pohod-rogaska-slatina/
END:VEVENT
BEGIN:VEVENT
DTSTART;TZID=UTC:20180922T100000
DTEND;TZID=UTC:20180922T140000
DTSTAMP:20260420T025942
CREATED:20180907T190804Z
LAST-MODIFIED:20180907T190804Z
UID:878-1537610400-1537624800@ozcs-smarje.eu
SUMMARY:TEKMOVANJE posameznikov s polavtomatsko puško in pištolo na strelišče Agnez Trbovlje
DESCRIPTION:
URL:http://ozcs-smarje.eu/dogodek/tekmovanje-posameznikov-s-polavtomatsko-pusko-in-pistolo-na-strelisce-agnez-trbovlje/
END:VEVENT
BEGIN:VEVENT
DTSTART;VALUE=DATE:20180920
DTEND;VALUE=DATE:20180924
DTSTAMP:20260420T025942
CREATED:20180907T191721Z
LAST-MODIFIED:20180911T192020Z
UID:884-1537401600-1537747199@ozcs-smarje.eu
SUMMARY:7. Mednarodni sejem obrambe\, varnosti\, zaščite in reševanja
DESCRIPTION:
URL:http://ozcs-smarje.eu/dogodek/7-mednarodni-sejem-obrambe-varnosti-zascite-in-resevanja/
END:VEVENT
BEGIN:VEVENT
DTSTART;VALUE=DATE:20180915
DTEND;VALUE=DATE:20180916
DTSTAMP:20260420T025942
CREATED:20180907T191602Z
LAST-MODIFIED:20180907T191602Z
UID:882-1536969600-1537055999@ozcs-smarje.eu
SUMMARY:71. OBLETNICA PRIKLJUČITVE PRIMORSKE K MATIČNI DOMOVINI
DESCRIPTION:
URL:http://ozcs-smarje.eu/dogodek/71-obletnica-prikljucitve-primorske-k-maticni-domovini/
END:VEVENT
BEGIN:VEVENT
DTSTART;TZID=UTC:20180908T090000
DTEND;TZID=UTC:20180908T120000
DTSTAMP:20260420T025942
CREATED:20180907T191022Z
LAST-MODIFIED:20180907T191022Z
UID:880-1536397200-1536408000@ozcs-smarje.eu
SUMMARY:SLOVESNOST OB 75. OBLETNICI  FORMIRANJA KOZJANSKEGA ODREDA IN 70 LETNICI USTANOVITVE  ZB NOB
DESCRIPTION:
URL:http://ozcs-smarje.eu/dogodek/slovesnost-ob-75-obletnici-formiranja-kozjanskega-odreda-in-70-letnici-ustanovitve-zb-nob/
END:VEVENT
BEGIN:VEVENT
DTSTART;TZID=UTC:20180621T180000
DTEND;TZID=UTC:20180621T190000
DTSTAMP:20260420T025942
CREATED:20180617T144426Z
LAST-MODIFIED:20180617T145407Z
UID:853-1529604000-1529607600@ozcs-smarje.eu
SUMMARY:POČASTITEV DNEVA DRŽAVNOSTI\, PODČETRTEK 21. JUNIJ 2018
DESCRIPTION:
URL:http://ozcs-smarje.eu/dogodek/vabilo-na-pocastitev-dneva-drzavnosti-podcetrtek-21-junij-2018/
END:VEVENT
BEGIN:VEVENT
DTSTART;VALUE=DATE:20180609
DTEND;VALUE=DATE:20180610
DTSTAMP:20260420T025942
CREATED:20180522T120353Z
LAST-MODIFIED:20180522T120353Z
UID:831-1528502400-1528588799@ozcs-smarje.eu
SUMMARY:STROKOVNA EKSKURZIJA
DESCRIPTION:
URL:http://ozcs-smarje.eu/dogodek/strokovna-ekskurzija/
END:VEVENT
BEGIN:VEVENT
DTSTART;TZID=UTC:20180512T090000
DTEND;TZID=UTC:20180512T143000
DTSTAMP:20260420T025942
CREATED:20180505T194243Z
LAST-MODIFIED:20180505T194249Z
UID:794-1526115600-1526135400@ozcs-smarje.eu
SUMMARY:STROKOVNO SREČANJE IN STRELJANJE Z MK PIŠTOLO\, 12. MAJ\, KOZJE
DESCRIPTION:
URL:http://ozcs-smarje.eu/dogodek/strokovno-srecanje-in-streljanje-z-mk-pistolo-12-maj-kozje/
END:VEVENT
BEGIN:VEVENT
DTSTART;TZID=UTC:20180223T180000
DTEND;TZID=UTC:20180223T200000
DTSTAMP:20260420T025942
CREATED:20180212T175713Z
LAST-MODIFIED:20180212T175713Z
UID:697-1519408800-1519416000@ozcs-smarje.eu
SUMMARY:VOLILNI ZBOR ČLANOV OZSČ ŠMARJE PRI JELŠAH
DESCRIPTION:
URL:http://ozcs-smarje.eu/dogodek/volilni-zbor-clanov-ozsc-smarje-pri-jelsah/
END:VEVENT
BEGIN:VEVENT
DTSTART;TZID=UTC:20171201T170000
DTEND;TZID=UTC:20171201T190000
DTSTAMP:20260420T025942
CREATED:20171122T205108Z
LAST-MODIFIED:20171122T205108Z
UID:642-1512147600-1512154800@ozcs-smarje.eu
SUMMARY:Strokovno srečanje - Rogatec
DESCRIPTION:vabilo Rogatec 2017
URL:http://ozcs-smarje.eu/dogodek/strokovno-srecanje-rogatec/
END:VEVENT
BEGIN:VEVENT
DTSTART;TZID=UTC:20171121T180000
DTEND;TZID=UTC:20171121T193000
DTSTAMP:20260420T025942
CREATED:20171116T203601Z
LAST-MODIFIED:20171116T203605Z
UID:636-1511287200-1511292600@ozcs-smarje.eu
SUMMARY:Seja upravnega odbora
DESCRIPTION:VABILO UO 21 11 2017
URL:http://ozcs-smarje.eu/dogodek/seja-upravnega-odbora/
LOCATION:sedež OZSČ Šmarje pri Jelšah
END:VEVENT
BEGIN:VEVENT
DTSTART;TZID=UTC:20171021T090000
DTEND;TZID=UTC:20171021T140000
DTSTAMP:20260420T025942
CREATED:20171007T165748Z
LAST-MODIFIED:20171007T165752Z
UID:594-1508576400-1508594400@ozcs-smarje.eu
SUMMARY:Srečanje v Bistrici ob Sotli
DESCRIPTION:
URL:http://ozcs-smarje.eu/dogodek/srecanje-v-bistrici-ob-sotli/
LOCATION:Bistrica ob Sotli
END:VEVENT
END:VCALENDAR