BEGIN:VCALENDAR
VERSION:2.0
PRODID:-// - ECPv6.15.20//NONSGML v1.0//EN
CALSCALE:GREGORIAN
METHOD:PUBLISH
X-ORIGINAL-URL:http://ozcs-smarje.eu
X-WR-CALDESC:Dogodki za 
REFRESH-INTERVAL;VALUE=DURATION:PT1H
X-Robots-Tag:noindex
X-PUBLISHED-TTL:PT1H
BEGIN:VTIMEZONE
TZID:UTC
BEGIN:STANDARD
TZOFFSETFROM:+0000
TZOFFSETTO:+0000
TZNAME:UTC
DTSTART:20180101T000000
END:STANDARD
END:VTIMEZONE
BEGIN:VEVENT
DTSTART;TZID=UTC:20190323T090000
DTEND;TZID=UTC:20190323T140000
DTSTAMP:20260420T132442
CREATED:20190308T163541Z
LAST-MODIFIED:20190308T163541Z
UID:1132-1553331600-1553349600@ozcs-smarje.eu
SUMMARY:STRELJANJE S PIŠTOLO (9mm) - LOKA PRI ŽUSMU
DESCRIPTION:
URL:http://ozcs-smarje.eu/dogodek/streljanje-s-pistolo-9mm-loka-pri-zusmu/
LOCATION:Loka pri Žusmu
END:VEVENT
END:VCALENDAR