BEGIN:VCALENDAR
VERSION:2.0
PRODID:-// - ECPv6.15.20//NONSGML v1.0//EN
CALSCALE:GREGORIAN
METHOD:PUBLISH
X-ORIGINAL-URL:http://ozcs-smarje.eu
X-WR-CALDESC:Dogodki za 
REFRESH-INTERVAL;VALUE=DURATION:PT1H
X-Robots-Tag:noindex
X-PUBLISHED-TTL:PT1H
BEGIN:VTIMEZONE
TZID:UTC
BEGIN:STANDARD
TZOFFSETFROM:+0000
TZOFFSETTO:+0000
TZNAME:UTC
DTSTART:20160101T000000
END:STANDARD
END:VTIMEZONE
BEGIN:VEVENT
DTSTART;VALUE=DATE:20190314
DTEND;VALUE=DATE:20190315
DTSTAMP:20260420T024429
CREATED:20190224T191611Z
LAST-MODIFIED:20190227T190243Z
UID:1116-1552521600-1552607999@ozcs-smarje.eu
SUMMARY:STRELSKO TEKMOVANJE S PAP M-59/66 (strelišče PEČOVNIK)
DESCRIPTION:
URL:http://ozcs-smarje.eu/dogodek/strelsko-tekmovanje-s-pap-m-59-66/
LOCATION:strelišče Pečovnik
END:VEVENT
BEGIN:VEVENT
DTSTART;TZID=UTC:20181020T090000
DTEND;TZID=UTC:20181020T140000
DTSTAMP:20260420T024429
CREATED:20181003T180431Z
LAST-MODIFIED:20181003T180437Z
UID:958-1540026000-1540044000@ozcs-smarje.eu
SUMMARY:REGIJSKO TEKMOVANJE V STRELJANJU S ŠPORTNIM IN LOVSKIM OROŽJEM
DESCRIPTION:
URL:http://ozcs-smarje.eu/dogodek/regijsko-tekmovanje-v-streljanju-s-sportnim-in-lovskim-orozjem/
LOCATION:Bistrica ob Sotli
END:VEVENT
BEGIN:VEVENT
DTSTART;TZID=UTC:20180922T100000
DTEND;TZID=UTC:20180922T140000
DTSTAMP:20260420T024429
CREATED:20180907T190804Z
LAST-MODIFIED:20180907T190804Z
UID:878-1537610400-1537624800@ozcs-smarje.eu
SUMMARY:TEKMOVANJE posameznikov s polavtomatsko puško in pištolo na strelišče Agnez Trbovlje
DESCRIPTION:
URL:http://ozcs-smarje.eu/dogodek/tekmovanje-posameznikov-s-polavtomatsko-pusko-in-pistolo-na-strelisce-agnez-trbovlje/
END:VEVENT
BEGIN:VEVENT
DTSTART;TZID=UTC:20170603T100000
DTEND;TZID=UTC:20170603T160000
DTSTAMP:20260420T024429
CREATED:20170529T192606Z
LAST-MODIFIED:20170529T192606Z
UID:546-1496484000-1496505600@ozcs-smarje.eu
SUMMARY:Tekmovanje posameznikov s polavtomatsko puško in pištolo
DESCRIPTION:
URL:http://ozcs-smarje.eu/dogodek/tekmovanje-posameznikov-s-polavtomatsko-pusko-in-pistolo/
END:VEVENT
BEGIN:VEVENT
DTSTART;VALUE=DATE:20170327
DTEND;VALUE=DATE:20170329
DTSTAMP:20260420T024429
CREATED:20170305T175402Z
LAST-MODIFIED:20170305T175406Z
UID:429-1490572800-1490745599@ozcs-smarje.eu
SUMMARY:Strelsko tekmovanje z vojaško puško M-48
DESCRIPTION:Slovenska vojska si ob temeljnem poslanstvu in nalogah\, ki vključujejo sodelovanje in pomoč državnim organom in organizacijam ter civilnim združenjem\, s katerimi ima sklenjene pogodbe o sodelovanju\, nenehno prizadeva\, da z dodatnimi aktivnostmi podpira\, ohranja in krepi obrambno kulturo in domovinsko zavest državljank in državljanov. Tudi v letošnjem letu bo skupaj z organizacijami in društvi\, s katerimi ima sklenjene pogodbe o sodelovanju\, že četrtič  zaporedoma organizirala ekipno strelsko tekmovanje z vojaško puško repetirko M-48 kal. 7\,9 x 57 mm.
URL:http://ozcs-smarje.eu/dogodek/strelsko-tekmovanje-z-vojasko-pusko-m-48/
LOCATION:strelišče Pečovnik
END:VEVENT
END:VCALENDAR