BEGIN:VCALENDAR
VERSION:2.0
PRODID:-// - ECPv6.15.20//NONSGML v1.0//EN
CALSCALE:GREGORIAN
METHOD:PUBLISH
X-ORIGINAL-URL:http://ozcs-smarje.eu
X-WR-CALDESC:Dogodki za 
REFRESH-INTERVAL;VALUE=DURATION:PT1H
X-Robots-Tag:noindex
X-PUBLISHED-TTL:PT1H
BEGIN:VTIMEZONE
TZID:UTC
BEGIN:STANDARD
TZOFFSETFROM:+0000
TZOFFSETTO:+0000
TZNAME:UTC
DTSTART:20160101T000000
END:STANDARD
END:VTIMEZONE
BEGIN:VEVENT
DTSTART;TZID=UTC:20170506T090000
DTEND;TZID=UTC:20170506T140000
DTSTAMP:20260420T082348
CREATED:20170419T152604Z
LAST-MODIFIED:20170504T201010Z
UID:495-1494061200-1494079200@ozcs-smarje.eu
SUMMARY:Srečanje v Kozjem - tekmovanje v streljanju z MK pištolo
DESCRIPTION:vabilo Kozje 2017
URL:http://ozcs-smarje.eu/dogodek/srecanje-v-kozjem-tekmovanje-v-streljanju-z-mk-pistolo/
END:VEVENT
END:VCALENDAR