BEGIN:VCALENDAR
VERSION:2.0
PRODID:-// - ECPv6.15.20//NONSGML v1.0//EN
CALSCALE:GREGORIAN
METHOD:PUBLISH
X-ORIGINAL-URL:http://ozcs-smarje.eu
X-WR-CALDESC:Dogodki za 
REFRESH-INTERVAL;VALUE=DURATION:PT1H
X-Robots-Tag:noindex
X-PUBLISHED-TTL:PT1H
BEGIN:VTIMEZONE
TZID:UTC
BEGIN:STANDARD
TZOFFSETFROM:+0000
TZOFFSETTO:+0000
TZNAME:UTC
DTSTART:20160101T000000
END:STANDARD
END:VTIMEZONE
BEGIN:VEVENT
DTSTART;TZID=UTC:20170515T170000
DTEND;TZID=UTC:20170515T183000
DTSTAMP:20260420T131946
CREATED:20170513T133903Z
LAST-MODIFIED:20170513T133903Z
UID:527-1494867600-1494873000@ozcs-smarje.eu
SUMMARY:Dan Slovenske vojske
DESCRIPTION:vabilo 15MAJ dan SV
URL:http://ozcs-smarje.eu/dogodek/dan-slovenske-vojske/
END:VEVENT
END:VCALENDAR